BEGIN:VCALENDAR
VERSION:2.0
PRODID:-//jEvents 2.0 for Joomla//EN
CALSCALE:GREGORIAN
METHOD:PUBLISH
BEGIN:VEVENT
UID:d1a698508b6e97e0493c26ea3babe22a
CATEGORIES:DEFAULT
SUMMARY:PROGETTARE LA DIDATTICA 3.0 - IV LEZIONE
LOCATION:COLLEGIO S. ANTONIO - BUSNAGO
DESCRIPTION;ENCODING=QUOTED-PRINTABLE:\n\nArgomenti della lezione:\n\n\nDidattica e tecnologie: EAS e flipped.\n
DTSTAMP:20260424T221405Z
DTSTART:20171009T150000Z
DTEND:20171009T170000Z
SEQUENCE:0
TRANSP:OPAQUE
END:VEVENT
END:VCALENDAR