BEGIN:VCALENDAR
VERSION:2.0
PRODID:-//jEvents 2.0 for Joomla//EN
CALSCALE:GREGORIAN
METHOD:PUBLISH
BEGIN:VEVENT
UID:e9eeb081937670c956b56f44a297cfd2
CATEGORIES:DEFAULT
SUMMARY:PROGETTARE LA DIDATTICA 3.0 - V LEZIONE
LOCATION:COLLEGIO S. ANTONIO - BUSNAGO
DESCRIPTION;ENCODING=QUOTED-PRINTABLE:\n\nArgomenti della lezione:\n\n\n_LIM e il suo utilizzo\n\n\n_Softwear di 
 gestione LIM\n
DTSTAMP:20260424T221407Z
DTSTART:20171026T150000Z
DTEND:20171026T170000Z
SEQUENCE:0
TRANSP:OPAQUE
END:VEVENT
END:VCALENDAR