BEGIN:VCALENDAR
VERSION:2.0
PRODID:-//jEvents 2.0 for Joomla//EN
CALSCALE:GREGORIAN
METHOD:PUBLISH
BEGIN:VEVENT
UID:7a53beae10e39663b979bc5b14563c4d
CATEGORIES:DEFAULT
SUMMARY:PROGETTARE LA DIDATTICA 3.0
LOCATION:COLLEGIO S. ANTONIO -  BUSNAGO
DESCRIPTION;ENCODING=QUOTED-PRINTABLE:\n\nVI LEZIONE PROGETTARE LA DIDATTICA\n\n\nArgomenti della lezione:\n\n\nU
 so della LIM\n\n\n \n
DTSTAMP:20260424T205547Z
DTSTART:20171106T160000Z
DTEND:20171106T180000Z
SEQUENCE:0
TRANSP:OPAQUE
END:VEVENT
END:VCALENDAR