BEGIN:VCALENDAR
VERSION:2.0
PRODID:-//jEvents 2.0 for Joomla//EN
CALSCALE:GREGORIAN
METHOD:PUBLISH
BEGIN:VEVENT
UID:4eddb220767e1c3bb0bde782576b30b4
CATEGORIES:DEFAULT
SUMMARY:PROGETTARE LA DIDATTICA 3.0
LOCATION:COLLEGIO S. ANTONIO - BUSNAGO
DESCRIPTION;ENCODING=QUOTED-PRINTABLE:\n\nVII LEZIONE PROGETTARE LA DIDATTICA 3.0\n\n\n \n\n\nArgomento della lez
 ione:\n\n\nUso della LIM\n\n\n \n
DTSTAMP:20260424T205546Z
DTSTART:20171120T160000Z
DTEND:20171120T180000Z
SEQUENCE:0
TRANSP:OPAQUE
END:VEVENT
END:VCALENDAR