BEGIN:VCALENDAR
VERSION:2.0
PRODID:-//jEvents 2.0 for Joomla//EN
CALSCALE:GREGORIAN
METHOD:PUBLISH
BEGIN:VEVENT
UID:61e334e40d8a154a006a4ac81a9aacf3
CATEGORIES:DEFAULT
SUMMARY:FIRST CERTIFICATE IN ENGLISH (FCE), B2 - Lesson II
LOCATION:Liceo Tenca
DESCRIPTION;ENCODING=QUOTED-PRINTABLE:\n\nLesson II\n
DTSTAMP:20260424T205549Z
DTSTART:20171102T150000Z
DTEND:20171102T180000Z
SEQUENCE:0
TRANSP:OPAQUE
END:VEVENT
END:VCALENDAR