BEGIN:VCALENDAR
VERSION:2.0
PRODID:-//jEvents 2.0 for Joomla//EN
CALSCALE:GREGORIAN
METHOD:PUBLISH
BEGIN:VEVENT
UID:2fb2756368b31566650edb2d101c05db
CATEGORIES:DEFAULT
SUMMARY:ACQUISIZIONE DEL FIRST CERTIFICATE IN ENGLISH - B 2 - LESSON III
LOCATION:LIVEO TENCA , BASTIONI PORTA VOLTA 16 MILANO
DESCRIPTION;ENCODING=QUOTED-PRINTABLE:
DTSTAMP:20260424T210410Z
DTSTART:20171109T150000Z
DTEND:20171109T180000Z
SEQUENCE:0
TRANSP:OPAQUE
END:VEVENT
END:VCALENDAR