BEGIN:VCALENDAR
VERSION:2.0
PRODID:-//jEvents 2.0 for Joomla//EN
CALSCALE:GREGORIAN
METHOD:PUBLISH
BEGIN:VEVENT
UID:af0d3e3ca5d516d6cff503ef05c40db5
CATEGORIES:DEFAULT
SUMMARY:ACQUISIZIONE DEL FIRST CERTIFICATE IN ENGLISH - B 2 - LESSON V
LOCATION:LICEO TENCA - BASTIONI PORTA VOLTA 16 MILANO
DESCRIPTION;ENCODING=QUOTED-PRINTABLE:
DTSTAMP:20260424T221401Z
DTSTART:20171116T150000Z
DTEND:20171116T180000Z
SEQUENCE:0
TRANSP:OPAQUE
END:VEVENT
END:VCALENDAR