BEGIN:VCALENDAR
VERSION:2.0
PRODID:-//jEvents 2.0 for Joomla//EN
CALSCALE:GREGORIAN
METHOD:PUBLISH
BEGIN:VEVENT
UID:c456a3f2dc9fde490506cd689c7fd948
CATEGORIES:DEFAULT
SUMMARY:ACQUISIZIONE DEL FIRST CERTIFICATE IN ENGLISH - B 2 - LESSON VII
LOCATION:LICEO TENCA - BASTIONI PORTA VOLTA 16 MILANO
DESCRIPTION;ENCODING=QUOTED-PRINTABLE:
DTSTAMP:20260424T210410Z
DTSTART:20171130T150000Z
DTEND:20171130T180000Z
SEQUENCE:0
TRANSP:OPAQUE
END:VEVENT
END:VCALENDAR