BEGIN:VCALENDAR
VERSION:2.0
PRODID:-//jEvents 2.0 for Joomla//EN
CALSCALE:GREGORIAN
METHOD:PUBLISH
BEGIN:VEVENT
UID:db7171cf5415eeb52a49fa3d65e4daac
CATEGORIES:DEFAULT
SUMMARY:ACQUISIZIONE DEL FIRST CERTIFICATE IN ENGLISH - B 2 - LESSON VIII
LOCATION:LICEO TENCA - BASTIONI PORTA VOLTA 16 MILANO
DESCRIPTION;ENCODING=QUOTED-PRINTABLE:
DTSTAMP:20260424T190405Z
DTSTART:20171214T150000Z
DTEND:20171214T180000Z
SEQUENCE:0
TRANSP:OPAQUE
END:VEVENT
END:VCALENDAR