BEGIN:VCALENDAR
VERSION:2.0
PRODID:-//jEvents 2.0 for Joomla//EN
CALSCALE:GREGORIAN
METHOD:PUBLISH
BEGIN:VEVENT
UID:fde06a9c43ca745f843e15eddedd2ff5
CATEGORIES:DEFAULT
SUMMARY:LA CHIESA DELLE ORIGINI - I LEZIONE
LOCATION:sede di Diesse Lombardia viale Zara 9
DESCRIPTION;ENCODING=QUOTED-PRINTABLE:\n\nSULLA ROCCIA DI PIETRO\n\n\nrelatore\n\n\ndon Giuseppe Bolis: docente d
 i Teologia Patristica presso la facoltà Teologica dell'Italia Settentrional
 e e di introduzione alla Teologia presso l'università Cattolica del Sacro C
 uore di Milano\n\n\n Direttore del Corso:\n\n\nCristina Griner insegnante s
 cuola sec. II grado Liceo don Gnocchi Carate Brianza\n
DTSTAMP:20260424T210409Z
DTSTART:20171120T153000Z
DTEND:20171120T183000Z
SEQUENCE:0
TRANSP:OPAQUE
END:VEVENT
END:VCALENDAR