BEGIN:VCALENDAR
VERSION:2.0
PRODID:-//jEvents 2.0 for Joomla//EN
CALSCALE:GREGORIAN
METHOD:PUBLISH
BEGIN:VEVENT
UID:c090cb90820230509935f9557a5193ba
CATEGORIES:DEFAULT
SUMMARY:CONSIGLIO DIRETTIVO
LOCATION:DIESSE LOMBARDIA, Viale Zara ) Milano
DESCRIPTION;ENCODING=QUOTED-PRINTABLE:
DTSTAMP:20260424T193905Z
DTSTART;VALUE=DATE:20180112
DTEND;VALUE=DATE:20180113
SEQUENCE:0
TRANSP:OPAQUE
END:VEVENT
END:VCALENDAR