BEGIN:VCALENDAR
VERSION:2.0
PRODID:-//jEvents 2.0 for Joomla//EN
CALSCALE:GREGORIAN
METHOD:PUBLISH
BEGIN:VEVENT
UID:8d20d1a2099524e0eb375436fc13300b
CATEGORIES:DEFAULT
SUMMARY:LESSON IX: ACQUISIZIONE DEL FIRST CERTIFICATE IN ENGLISH - B 2 - 
LOCATION:Liceo Tenca - Bastioni di Porta Volta 16 Milano
DESCRIPTION;ENCODING=QUOTED-PRINTABLE:\n\nOrario 15.30 - 18.30\n
DTSTAMP:20260424T193821Z
DTSTART;VALUE=DATE:20180118
DTEND;VALUE=DATE:20180119
SEQUENCE:0
TRANSP:OPAQUE
END:VEVENT
END:VCALENDAR