BEGIN:VCALENDAR
VERSION:2.0
PRODID:-//jEvents 2.0 for Joomla//EN
CALSCALE:GREGORIAN
METHOD:PUBLISH
BEGIN:VEVENT
UID:15745a95f71b73f15375792e1e1aa4d4
CATEGORIES:DEFAULT
SUMMARY:LESSON XI: ACQUISIZIONE DEL FIRST CERTIFICATE IN ENGLISH - B 2 - 
DESCRIPTION;ENCODING=QUOTED-PRINTABLE:\n\norario 15.30 - 18.30\n
DTSTAMP:20260424T183801Z
DTSTART;VALUE=DATE:20180201
DTEND;VALUE=DATE:20180202
SEQUENCE:0
TRANSP:OPAQUE
END:VEVENT
END:VCALENDAR