BEGIN:VCALENDAR
VERSION:2.0
PRODID:-//jEvents 2.0 for Joomla//EN
CALSCALE:GREGORIAN
METHOD:PUBLISH
BEGIN:VEVENT
UID:1fd93c56fe244d1b2f138fb90630d713
CATEGORIES:DEFAULT
SUMMARY:LESSON XII: ACQUISIZIONE DEL FIRST CERTIFICATE IN ENGLISH - B 2 - 
LOCATION:Liceo Tenca - Bastioni di Porta Volta 16 Milano
DESCRIPTION;ENCODING=QUOTED-PRINTABLE:\n\norario: 15.30 - 18.30\n
DTSTAMP:20260424T164758Z
DTSTART:20180208T070000Z
DTEND:20180208T160000Z
SEQUENCE:0
TRANSP:OPAQUE
END:VEVENT
END:VCALENDAR