BEGIN:VCALENDAR
VERSION:2.0
PRODID:-//jEvents 2.0 for Joomla//EN
CALSCALE:GREGORIAN
METHOD:PUBLISH
BEGIN:VEVENT
UID:ac23de6f4442f98cee81c8cd3a8759c8
CATEGORIES:DEFAULT
SUMMARY:LESSON XIII: ACQUISIZIONE DEL FIRST CERTIFICATE IN ENGLISH - B 2 - 
LOCATION:Liceo Tenca - Bastioni di Porta Volta 16 Milano
DESCRIPTION;ENCODING=QUOTED-PRINTABLE:\n\nORARIO 15.30 - 18.30\n
DTSTAMP:20260424T184758Z
DTSTART;VALUE=DATE:20180215
DTEND;VALUE=DATE:20180216
SEQUENCE:0
TRANSP:OPAQUE
END:VEVENT
END:VCALENDAR