BEGIN:VCALENDAR
VERSION:2.0
PRODID:-//jEvents 2.0 for Joomla//EN
CALSCALE:GREGORIAN
METHOD:PUBLISH
BEGIN:VEVENT
UID:412a94ae1e609b7123a4e5eb705a32eb
CATEGORIES:DEFAULT
SUMMARY:LESSON XIV: ACQUISIZIONE DEL FIRST CERTIFICATE IN ENGLISH - B 2 - 
LOCATION:Liceo Tenca - Bastioni di Porta Volta 16 Milano
DESCRIPTION;ENCODING=QUOTED-PRINTABLE:\n\nORARIO 15.30 - 18.30\n
DTSTAMP:20260424T183802Z
DTSTART;VALUE=DATE:20180222
DTEND;VALUE=DATE:20180223
SEQUENCE:0
TRANSP:OPAQUE
END:VEVENT
END:VCALENDAR