BEGIN:VCALENDAR
VERSION:2.0
PRODID:-//jEvents 2.0 for Joomla//EN
CALSCALE:GREGORIAN
METHOD:PUBLISH
BEGIN:VEVENT
UID:909557144a97f67f43c5373cef3470b0
CATEGORIES:DEFAULT
SUMMARY:LESSON XIX: ACQUISIZIONE DEL FIRST CERTIFICATE IN ENGLISH - B 2 - 
LOCATION:Liceo Tenca - Bastioni di Porta Volta 16 Milano
DESCRIPTION;ENCODING=QUOTED-PRINTABLE:\n\nORARIO 15 30 - 18.30\n
DTSTAMP:20260424T210411Z
DTSTART;VALUE=DATE:20180412
DTEND;VALUE=DATE:20180413
SEQUENCE:0
TRANSP:OPAQUE
END:VEVENT
END:VCALENDAR