BEGIN:VCALENDAR
VERSION:2.0
PRODID:-//jEvents 2.0 for Joomla//EN
CALSCALE:GREGORIAN
METHOD:PUBLISH
BEGIN:VEVENT
UID:7481156c5cfc8f6b6fa208cd9ddd689e
CATEGORIES:DEFAULT
SUMMARY:LESSON XXI: ACQUISIZIONE DEL FIRST CERTIFICATE IN ENGLISH - B 2 - 
LOCATION:Liceo Tenca - Bastioni di Porta Volta 16 Milano
DESCRIPTION;ENCODING=QUOTED-PRINTABLE:\n\nORARIO 15.30 - 18.30\n
DTSTAMP:20260424T210517Z
DTSTART;VALUE=DATE:20180419
DTEND;VALUE=DATE:20180420
SEQUENCE:0
TRANSP:OPAQUE
END:VEVENT
END:VCALENDAR