BEGIN:VCALENDAR
VERSION:2.0
PRODID:-//jEvents 2.0 for Joomla//EN
CALSCALE:GREGORIAN
METHOD:PUBLISH
BEGIN:VEVENT
UID:0e5194fd7eb80250ce57b69db35cefe8
CATEGORIES:DEFAULT
SUMMARY:GWL 2018 rete Cardarelli - 184995 Coding e pensiero computazionale nella scuola secondaria di II grado
DESCRIPTION;ENCODING=QUOTED-PRINTABLE:
DTSTAMP:20260424T163802Z
DTSTART:20180212T140000Z
DTEND:20180212T170000Z
SEQUENCE:0
TRANSP:OPAQUE
END:VEVENT
END:VCALENDAR