BEGIN:VCALENDAR
VERSION:2.0
PRODID:-//jEvents 2.0 for Joomla//EN
CALSCALE:GREGORIAN
METHOD:PUBLISH
BEGIN:VEVENT
UID:25dc0acc961f4500cd989dd9c4778c0e
CATEGORIES:DEFAULT
SUMMARY:GWL 2018 rete Cardarelli - 184995 Coding e pensiero computazionale nella scuola secondaria di II grado
DESCRIPTION;ENCODING=QUOTED-PRINTABLE:
DTSTAMP:20260424T164759Z
DTSTART:20180219T140000Z
DTEND:20180219T170000Z
SEQUENCE:0
TRANSP:OPAQUE
END:VEVENT
END:VCALENDAR