BEGIN:VCALENDAR
VERSION:2.0
PRODID:-//jEvents 2.0 for Joomla//EN
CALSCALE:GREGORIAN
METHOD:PUBLISH
BEGIN:VEVENT
UID:0e308d863130ebcbc6d9d136ca83fa76
CATEGORIES:DEFAULT
SUMMARY:GWL 2018 rete Cardarelli - 184995 Coding e pensiero computazionale nella scuola secondaria di II grado
DESCRIPTION;ENCODING=QUOTED-PRINTABLE:
DTSTAMP:20260424T173813Z
DTSTART:20180312T140000Z
DTEND:20180312T170000Z
SEQUENCE:0
TRANSP:OPAQUE
END:VEVENT
END:VCALENDAR