BEGIN:VCALENDAR
VERSION:2.0
PRODID:-//jEvents 2.0 for Joomla//EN
CALSCALE:GREGORIAN
METHOD:PUBLISH
BEGIN:VEVENT
UID:903bc2be06fc8cc51d051053b9a98228
CATEGORIES:DEFAULT
SUMMARY:GWL 2018 Rete Cardarelli - 185010 Laboratorio per una didattica inclusiva 
DESCRIPTION;ENCODING=QUOTED-PRINTABLE:
DTSTAMP:20260424T163802Z
DTSTART:20180214T140000Z
DTEND:20180214T170000Z
SEQUENCE:0
TRANSP:OPAQUE
END:VEVENT
END:VCALENDAR