BEGIN:VCALENDAR
VERSION:2.0
PRODID:-//jEvents 2.0 for Joomla//EN
CALSCALE:GREGORIAN
METHOD:PUBLISH
BEGIN:VEVENT
UID:64d29f9dd042ca67feb8fa323235d2b1
CATEGORIES:DEFAULT
SUMMARY:GWL 2018 Rete Cardarelli - 185010 Laboratorio per una didattica inclusiva 
DESCRIPTION;ENCODING=QUOTED-PRINTABLE:
DTSTAMP:20260424T164759Z
DTSTART:20180221T140000Z
DTEND:20180221T170000Z
SEQUENCE:0
TRANSP:OPAQUE
END:VEVENT
END:VCALENDAR