BEGIN:VCALENDAR
VERSION:2.0
PRODID:-//jEvents 2.0 for Joomla//EN
CALSCALE:GREGORIAN
METHOD:PUBLISH
BEGIN:VEVENT
UID:c40eab7e77746a629dafe2fa0ff4c3ab
CATEGORIES:DEFAULT
SUMMARY:“PER FARE UN BAMBINO CI VUOLE UN VILLAGGIO” - 1° SERATA 
DESCRIPTION;ENCODING=QUOTED-PRINTABLE:\n\nLunedì 5 Marzo 2018 alle ore 20.45, la Sala Civica di Mariano Comense, 
 sita in Piazza Roma, ospiterà l'incontro: "BAMBINI E BAMBINE: SEMI PER IL F
 UTURO". \nIngresso libero. \nInterverrà il dott. Ezio Aceti, psicologo dell
 ’età evolutiva e referente scientifico del progetto formativo. \n
DTSTAMP:20260424T180037Z
DTSTART:20180305T194500Z
DTEND:20180305T210000Z
SEQUENCE:0
TRANSP:OPAQUE
END:VEVENT
END:VCALENDAR