BEGIN:VCALENDAR
VERSION:2.0
PRODID:-//jEvents 2.0 for Joomla//EN
CALSCALE:GREGORIAN
METHOD:PUBLISH
BEGIN:VEVENT
UID:09eb7bd6afcbc4a65603b01c64271947
CATEGORIES:DEFAULT
SUMMARY:GWL 2018 Rete Banfi - 185092 SCUOLA DIGITALE 3.0 e nuove metodologie didattiche
DESCRIPTION;ENCODING=QUOTED-PRINTABLE:
DTSTAMP:20260424T175423Z
DTSTART:20180322T160000Z
DTEND:20180322T183000Z
SEQUENCE:0
TRANSP:OPAQUE
END:VEVENT
END:VCALENDAR