BEGIN:VCALENDAR
VERSION:2.0
PRODID:-//jEvents 2.0 for Joomla//EN
CALSCALE:GREGORIAN
METHOD:PUBLISH
BEGIN:VEVENT
UID:74275370690754b98b50d6a5ad7360f5
CATEGORIES:DEFAULT
SUMMARY:GWL 2018 Rete Banfi - 185092 SCUOLA DIGITALE 3.0 e nuove metodologie didattiche
DESCRIPTION;ENCODING=QUOTED-PRINTABLE:
DTSTAMP:20260424T190406Z
DTSTART:20180418T150000Z
DTEND:20180418T173000Z
SEQUENCE:0
TRANSP:OPAQUE
END:VEVENT
END:VCALENDAR