BEGIN:VCALENDAR
VERSION:2.0
PRODID:-//jEvents 2.0 for Joomla//EN
CALSCALE:GREGORIAN
METHOD:PUBLISH
BEGIN:VEVENT
UID:f46b472b6fb23f0e66ae72c904e2d703
CATEGORIES:DEFAULT
SUMMARY:GWL 2018 Rete Banfi - 185092 SCUOLA DIGITALE 3.0 e nuove metodologie didattiche
DESCRIPTION;ENCODING=QUOTED-PRINTABLE:
DTSTAMP:20260424T203852Z
DTSTART:20180502T150000Z
DTEND:20180502T173000Z
SEQUENCE:0
TRANSP:OPAQUE
END:VEVENT
END:VCALENDAR