BEGIN:VCALENDAR
VERSION:2.0
PRODID:-//jEvents 2.0 for Joomla//EN
CALSCALE:GREGORIAN
METHOD:PUBLISH
BEGIN:VEVENT
UID:140e9f68547ea69385c32120b55e68b6
CATEGORIES:DEFAULT
SUMMARY:GWL 2018 Rete Cardarelli - 184978 Laboratorio per una didattica inclusiva
DESCRIPTION;ENCODING=QUOTED-PRINTABLE:
DTSTAMP:20260424T190401Z
DTSTART:20180416T150000Z
DTEND:20180416T173000Z
SEQUENCE:0
TRANSP:OPAQUE
END:VEVENT
END:VCALENDAR