BEGIN:VCALENDAR
VERSION:2.0
PRODID:-//jEvents 2.0 for Joomla//EN
CALSCALE:GREGORIAN
METHOD:PUBLISH
BEGIN:VEVENT
UID:03812fa4c906d7296666c98e6816ae99
CATEGORIES:DEFAULT
SUMMARY:GWL 2018 Rete Cardarelli - 184995 Coding e pensiero computazionale
DESCRIPTION;ENCODING=QUOTED-PRINTABLE:
DTSTAMP:20260424T173820Z
DTSTART:20180319T140000Z
DTEND:20180319T170000Z
SEQUENCE:0
TRANSP:OPAQUE
END:VEVENT
END:VCALENDAR