BEGIN:VCALENDAR
VERSION:2.0
PRODID:-//jEvents 2.0 for Joomla//EN
CALSCALE:GREGORIAN
METHOD:PUBLISH
BEGIN:VEVENT
UID:aaa37a7fce2d91347f59431a10758a92
CATEGORIES:DEFAULT
SUMMARY:GWL 2018 Rete Banfi - 185084 SCUOLA DIGITALE 3.0 Laboratorio per una didattica inclusiva
DESCRIPTION;ENCODING=QUOTED-PRINTABLE:\n\nLiceo Banfi - Vimercate\n
DTSTAMP:20260424T190411Z
DTSTART:20180411T150000Z
DTEND:20180411T173000Z
SEQUENCE:0
TRANSP:OPAQUE
END:VEVENT
END:VCALENDAR