BEGIN:VCALENDAR
VERSION:2.0
PRODID:-//jEvents 2.0 for Joomla//EN
CALSCALE:GREGORIAN
METHOD:PUBLISH
BEGIN:VEVENT
UID:7ed8afd636cbec7aa3e7d77c2b7ad31c
CATEGORIES:DEFAULT
SUMMARY:GWL 2018 Rete Banfi - 185084 SCUOLA DIGITALE 3.0 Laboratorio per una didattica inclusiva
DESCRIPTION;ENCODING=QUOTED-PRINTABLE:
DTSTAMP:20260424T190544Z
DTSTART:20180416T150000Z
DTEND:20180416T173000Z
SEQUENCE:0
TRANSP:OPAQUE
END:VEVENT
END:VCALENDAR