BEGIN:VCALENDAR
VERSION:2.0
PRODID:-//jEvents 2.0 for Joomla//EN
CALSCALE:GREGORIAN
METHOD:PUBLISH
BEGIN:VEVENT
UID:8c355fd5ad70f492c74f8ce1e5580eb2
CATEGORIES:DEFAULT
SUMMARY:GWL 2018 Rete Banfi - 185084 SCUOLA DIGITALE 3.0 Laboratorio per una didattica inclusiva
DESCRIPTION;ENCODING=QUOTED-PRINTABLE:
DTSTAMP:20260424T202753Z
DTSTART:20180502T150000Z
DTEND:20180502T173000Z
SEQUENCE:0
TRANSP:OPAQUE
END:VEVENT
END:VCALENDAR