BEGIN:VCALENDAR
VERSION:2.0
PRODID:-//jEvents 2.0 for Joomla//EN
CALSCALE:GREGORIAN
METHOD:PUBLISH
BEGIN:VEVENT
UID:fe53bccbbd1a2e9ca0bf1e7fcee4be7f
CATEGORIES:DEFAULT
SUMMARY:GWL 2018 Rete Banfi - 185098 SCUOLA DIGITALE 3.0 coding per la scuola primaria
DESCRIPTION;ENCODING=QUOTED-PRINTABLE:\n\nIC Mandelli\n
DTSTAMP:20260424T190544Z
DTSTART:20180409T150000Z
DTEND:20180409T173000Z
SEQUENCE:0
TRANSP:OPAQUE
END:VEVENT
END:VCALENDAR