BEGIN:VCALENDAR
VERSION:2.0
PRODID:-//jEvents 2.0 for Joomla//EN
CALSCALE:GREGORIAN
METHOD:PUBLISH
BEGIN:VEVENT
UID:1f4f5d2bca099493f3682d6bfed70041
CATEGORIES:DEFAULT
SUMMARY:GWL 2018 RETE BANFI 185101 CODING E PENSIERO COMPUTAZIONALE NELLA SCUOLA SECONDARIA DI II GRADO
DESCRIPTION;ENCODING=QUOTED-PRINTABLE:
DTSTAMP:20260424T221403Z
DTSTART:20180611T123000Z
DTEND:20180611T160000Z
SEQUENCE:0
TRANSP:OPAQUE
END:VEVENT
END:VCALENDAR