BEGIN:VCALENDAR
VERSION:2.0
PRODID:-//jEvents 2.0 for Joomla//EN
CALSCALE:GREGORIAN
METHOD:PUBLISH
BEGIN:VEVENT
UID:ff6f2b49dc6b259010f795254e0f1b39
CATEGORIES:DEFAULT
SUMMARY:GWL 2018 RETE BANFI 185101 CODING E PENSIERO COMPUTAZIONALE NELLA SCUOLA SECONDARIA DI II GRADO
DESCRIPTION;ENCODING=QUOTED-PRINTABLE:
DTSTAMP:20260424T221402Z
DTSTART:20180625T123000Z
DTEND:20180625T160000Z
SEQUENCE:0
TRANSP:OPAQUE
END:VEVENT
END:VCALENDAR