BEGIN:VCALENDAR
VERSION:2.0
PRODID:-//jEvents 2.0 for Joomla//EN
CALSCALE:GREGORIAN
METHOD:PUBLISH
BEGIN:VEVENT
UID:4e62aff846e05030fb2a5544087204b0
CATEGORIES:DEFAULT
SUMMARY:GWL 2018 Rete Leonardo da Vinci  184789 Coding e pensiero computazionale nella scuola secondaria di II grado
LOCATION:via Locatelli, 41 - Biassono - MB
DESCRIPTION;ENCODING=QUOTED-PRINTABLE:
DTSTAMP:20260424T221313Z
DTSTART:20180611T130000Z
DTEND:20180611T160000Z
SEQUENCE:0
TRANSP:OPAQUE
END:VEVENT
END:VCALENDAR