BEGIN:VCALENDAR
VERSION:2.0
PRODID:-//jEvents 2.0 for Joomla//EN
CALSCALE:GREGORIAN
METHOD:PUBLISH
BEGIN:VEVENT
UID:fedc4f0d5ec6af9cd075fc5e64e277d2
CATEGORIES:DEFAULT
SUMMARY:Per fare un bambino ci vuole un villaggio - Una coscienza in rete
DESCRIPTION;ENCODING=QUOTED-PRINTABLE:\n\nDISABILITà E NUOVE TECNOLOGIE: DALLA PARTE DEL BAMBINO\n\n\nAuditorium 
 Associazione La Nostra Famiglia - Rogeno LC\n\n\nore 20.45\n
DTSTAMP:20260424T234501Z
DTSTART:20181008T184500Z
DTEND:20181008T203000Z
SEQUENCE:0
TRANSP:OPAQUE
END:VEVENT
END:VCALENDAR