BEGIN:VCALENDAR
VERSION:2.0
PRODID:-//jEvents 2.0 for Joomla//EN
CALSCALE:GREGORIAN
METHOD:PUBLISH
BEGIN:VEVENT
UID:02897f06cebbef41f3152f4b10f8d178
CATEGORIES:DEFAULT
SUMMARY:Per fare un bambino ci vuole un villaggio - Una coscienza in rete
DESCRIPTION;ENCODING=QUOTED-PRINTABLE:\n\nGENERAZIONE 2.0: RISCHI E OPPORTUNITà!\n\n\nAuditorium Associazione La 
 Nostra Famiglia - Rogeno LC\n\n\nore 20.45\n
DTSTAMP:20260424T234503Z
DTSTART:20181019T184500Z
DTEND:20181019T203000Z
SEQUENCE:0
TRANSP:OPAQUE
END:VEVENT
END:VCALENDAR