BEGIN:VCALENDAR
VERSION:2.0
PRODID:-//jEvents 2.0 for Joomla//EN
CALSCALE:GREGORIAN
METHOD:PUBLISH
BEGIN:VEVENT
UID:8d86454488a66f2765ebddd5469b0fd8
CATEGORIES:DEFAULT
SUMMARY:Per fare un bambino ci vuole un villaggio - Una coscienza in rete
DESCRIPTION;ENCODING=QUOTED-PRINTABLE:\n\nNON CADERE NELLA RETE E NELLE TRAPPOLE DEI "LUPI DIGITALI"\n\n\nAuditor
 ium Associazione La Nostra Famiglia - Rogeno LC\n\n\nore 20.45\n
DTSTAMP:20260424T221403Z
DTSTART:20181105T194500Z
DTEND:20181105T213000Z
SEQUENCE:0
TRANSP:OPAQUE
END:VEVENT
END:VCALENDAR