BEGIN:VCALENDAR
VERSION:2.0
PRODID:-//jEvents 2.0 for Joomla//EN
CALSCALE:GREGORIAN
METHOD:PUBLISH
BEGIN:VEVENT
UID:aae5206bcc75e08af1b836e762ef7eb1
CATEGORIES:DEFAULT
SUMMARY:Per fare un bambino ci vuole un villaggio - Una coscienza in rete
DESCRIPTION;ENCODING=QUOTED-PRINTABLE:\n\nRETE: LIBERTà E SVILUPPO DEL PENSIERO CRITICO\n\n\nAuditorium Associazi
 one La Nostra Famiglia - Rogeno LC\n\n\nore 20.45\n
DTSTAMP:20260424T221313Z
DTSTART:20181120T194500Z
DTEND:20181120T213000Z
SEQUENCE:0
TRANSP:OPAQUE
END:VEVENT
END:VCALENDAR