BEGIN:VCALENDAR
VERSION:2.0
PRODID:-//jEvents 2.0 for Joomla//EN
CALSCALE:GREGORIAN
METHOD:PUBLISH
BEGIN:VEVENT
UID:9c5009d05f7b7131816578597155e5d6
CATEGORIES:DEFAULT
SUMMARY:Per fare un bambino ci vuole un villaggio - Una coscienza in rete
DESCRIPTION;ENCODING=QUOTED-PRINTABLE:\n\nBUONE PRASSI E PRATICHE: PROPOSTE PER LA SCUOLA\n\n\nAuditorium Associa
 zione La Nostra Famiglia - Rogeno LC\n\n\nore 20.45\n
DTSTAMP:20260424T202754Z
DTSTART:20181203T194500Z
DTEND:20181203T213000Z
SEQUENCE:0
TRANSP:OPAQUE
END:VEVENT
END:VCALENDAR