BEGIN:VCALENDAR
VERSION:2.0
PRODID:-//jEvents 2.0 for Joomla//EN
CALSCALE:GREGORIAN
METHOD:PUBLISH
BEGIN:VEVENT
UID:682b8d9d18e71837ab381e9e239d4672
CATEGORIES:DEFAULT
SUMMARY:Primo incontro de "La contemporaneità e i suoi testimoni": VI RACCONTO IL SESSANTOTTO: VI PUÒ INTERESSARE
DESCRIPTION;ENCODING=QUOTED-PRINTABLE:\n\nIIS MAXWELL \n\n\nvia Don Giovanni Calabria 2, Milano (M2, 90)\n\n\nMer
 coledì 17 ottobre 2018\n\n\nore 15.30-18\n
DTSTAMP:20260424T234501Z
DTSTART:20181017T133000Z
DTEND:20181017T160000Z
SEQUENCE:0
TRANSP:OPAQUE
END:VEVENT
END:VCALENDAR