BEGIN:VCALENDAR
VERSION:2.0
PRODID:-//jEvents 2.0 for Joomla//EN
CALSCALE:GREGORIAN
METHOD:PUBLISH
BEGIN:VEVENT
UID:b3e7703ad7505cb905311667372dd099
CATEGORIES:DEFAULT
SUMMARY:"La contemporaneità e i suoi testimoni": CREATIVITA’ E ECONOMIA: IL MONDO DELLE START UP GUIDATE DAI GIOVANI
DESCRIPTION;ENCODING=QUOTED-PRINTABLE:Martedì 27 Novembre 2018 ore 11.05 - 13.40Istituto Professionale di Stato B
 . Cavalieri – via Olona 14, Milano
DTSTAMP:20260424T221403Z
DTSTART:20181127T100500Z
DTEND:20181127T124000Z
SEQUENCE:0
TRANSP:OPAQUE
END:VEVENT
END:VCALENDAR