BEGIN:VCALENDAR
VERSION:2.0
PRODID:-//jEvents 2.0 for Joomla//EN
CALSCALE:GREGORIAN
METHOD:PUBLISH
BEGIN:VEVENT
UID:6e70b32adb938dfbfe9e0678be33a9c2
CATEGORIES:DEFAULT
SUMMARY:"La contemporaneità e i suoi testimoni": DALLA FISICA ALLE NANOTECNOLOGIE: IL PREMIO NOBEL RICHARD FEYNMAN
DESCRIPTION;ENCODING=QUOTED-PRINTABLE:\n\nVenerdì 9 Novembre 2018 ore 15.30 - 18.00\n\n\nLiceo Statale A. Banfi  
 - via Adda 6 - Vimercate\n\n\nMario Gargantini, giornalista scientifico e s
 crittore\n\n\n L'incontro può essere seguito in streaming \n
DTSTAMP:20260424T221408Z
DTSTART:20181109T143000Z
DTEND:20181109T170000Z
SEQUENCE:0
TRANSP:OPAQUE
END:VEVENT
END:VCALENDAR