BEGIN:VCALENDAR
VERSION:2.0
PRODID:-//jEvents 2.0 for Joomla//EN
CALSCALE:GREGORIAN
METHOD:PUBLISH
BEGIN:VEVENT
UID:3fc094bc9a2682a142ad1280207b5122
CATEGORIES:DEFAULT
SUMMARY:"La contemporaneità e i suoi testimoni": OLTRE L’OPPRESSIONE E LA VENDETTA. LA GIUSTIZIA RIPARATIVA DI NELSON MANDELA
DESCRIPTION;ENCODING=QUOTED-PRINTABLE:\n\nClaudia Mazzucato, professore associato di diritto penale e diritto pen
 ale minorile, Università Cattolica del Sacro Cuore\n\n\nLunedì  03/12/2018 
 ore 15.30-18\n
DTSTAMP:20260424T202752Z
DTSTART:20181203T143000Z
DTEND:20181203T170000Z
SEQUENCE:0
TRANSP:OPAQUE
END:VEVENT
END:VCALENDAR