BEGIN:VCALENDAR
VERSION:2.0
PRODID:-//jEvents 2.0 for Joomla//EN
CALSCALE:GREGORIAN
METHOD:PUBLISH
BEGIN:VEVENT
UID:e88376318803365b99c96aa703b3e48d
CATEGORIES:DEFAULT
SUMMARY:Consiglio direttivo di Diesse Lombardia
DESCRIPTION;ENCODING=QUOTED-PRINTABLE:\n\nLunedì 19 Novembre 2018 ore 18.45\n\n\nSede - Viale Zara,9 - Milano\n
DTSTAMP:20260424T221407Z
DTSTART:20181119T174500Z
DTEND:20181119T210000Z
SEQUENCE:0
TRANSP:OPAQUE
END:VEVENT
END:VCALENDAR