BEGIN:VCALENDAR
VERSION:2.0
PRODID:-//jEvents 2.0 for Joomla//EN
CALSCALE:GREGORIAN
METHOD:PUBLISH
BEGIN:VEVENT
UID:17a6da55505f2e7adc59d4bd4955de2f
CATEGORIES:DEFAULT
SUMMARY:GWL 2019 ID 202798 Tinkering infanzia
DESCRIPTION;ENCODING=QUOTED-PRINTABLE:\n\npresso IC Villasanta (MB), via Villa 5\n\n\norario: 16.30 - 19.00\n\n\n
 formatore: prof. Tamburrini\n
DTSTAMP:20260424T180612Z
DTSTART:20190222T153000Z
DTEND:20190222T180000Z
SEQUENCE:0
TRANSP:OPAQUE
END:VEVENT
END:VCALENDAR