BEGIN:VCALENDAR
VERSION:2.0
PRODID:-//jEvents 2.0 for Joomla//EN
CALSCALE:GREGORIAN
METHOD:PUBLISH
BEGIN:VEVENT
UID:c8d1a0d6a068a577ed170b7d50ce5f82
CATEGORIES:DEFAULT
SUMMARY:GWL 2019 ID 202798 Tinkering infanzia
DESCRIPTION;ENCODING=QUOTED-PRINTABLE:\n\npresso IC Villasanta (MB), via Villa 5\n\n\norario: 16.30 - 19.00\n\n\n
 formatore: prof. Tamburrini\n
DTSTAMP:20260424T190544Z
DTSTART:20190315T153000Z
DTEND:20190315T180000Z
SEQUENCE:0
TRANSP:OPAQUE
END:VEVENT
END:VCALENDAR