BEGIN:VCALENDAR
VERSION:2.0
PRODID:-//jEvents 2.0 for Joomla//EN
CALSCALE:GREGORIAN
METHOD:PUBLISH
BEGIN:VEVENT
UID:46e1fcf78a962f2776be8003c876d554
CATEGORIES:DEFAULT
SUMMARY:Il D.Lgs. n.65/2017...questo sconosciuto. La scuola da 0 a 6 anni
DESCRIPTION;ENCODING=QUOTED-PRINTABLE:IL D. LGS. n.65/2017 ...QUESTO SCONOSCIUTO.\nLA SCUOLA DA 0 A 6 ANNI, criti
 cità e opportunità.\nsabato 16 marzo 2019 - ore 09:30 - 13.00\n\n\n \nPALAZ
 ZO LOMBARDIA     Piazza Città di Lombardia 1, Milano\ningresso N4, Sala Mar
 co Biagi, piano 1\n
DTSTAMP:20260424T190544Z
DTSTART:20190316T083000Z
DTEND:20190316T120000Z
SEQUENCE:0
TRANSP:OPAQUE
END:VEVENT
END:VCALENDAR