BEGIN:VCALENDAR
VERSION:2.0
PRODID:-//jEvents 2.0 for Joomla//EN
CALSCALE:GREGORIAN
METHOD:PUBLISH
BEGIN:VEVENT
UID:5853be712b97e6d492b698775ddc9415
CATEGORIES:DEFAULT
SUMMARY:Per una definizione di giustizia riparativa. Il racconto di alcune esperienze. Incontro con la dott.ssa Anna Cattaneo
DESCRIPTION;ENCODING=QUOTED-PRINTABLE:\n\nVenerdì 31 maggio 2019, alle ore 11.15, si terrà in Auditorium l’incont
 ro dal titolo Per una definizione di giustizia riparativa. Il racconto di a
 lcune esperienze tenuto dalla dott.ssa Anna Cattaneo, mediatrice penale pre
 sso la Caritas di Bergamo e formatasi alla scuola Jacqueline Morineau.\n\n\
 nL’iniziativa si inserisce nel più ampio progetto sostenuto da Fondazione C
 ARIPLO Milano e svolto in collaborazione con Diesse Lombardia a seguito deg
 li incontri del Percorso sulla Contemporaneità tenutisi in quest’anno scola
 stico al Liceo.\n\n\nL’ incontro, che verrà trasmesso in diretta streaming 
 in collegamento con scuole della provincia di Monza e della Brianza e di Mi
 lano, è rivolto alle classi quinte come completamento del percorso di Citta
 dinanza e Costituzione previsto dall’Esame di Stato. Sono altresì invitati 
 gli studenti delle classi quarte che comunichino il proprio interessamento 
 al Docente coordinatore della rispettiva classe di appartenenza (il quale s
 i occuperà di segnalare in Vicepresidenza i nominativi degli studenti inter
 essati).\n\n\nPer questi ultimi, l’incontro è da intendersi come preparator
 io alla Summer School del Liceo e alle iniziative che si terranno nel primo
  periodo dell’anno scolastico 2019/2020 sempre sul tema della “Giustizia Ri
 parativa”.\n
DTSTAMP:20260424T221406Z
DTSTART:20190531T091500Z
DTEND:20190531T111500Z
SEQUENCE:0
TRANSP:OPAQUE
END:VEVENT
END:VCALENDAR